BEGIN:VCALENDAR
PRODID;X-RICAL-TZSOURCE=TZINFO:-//com.denhaven2/NONSGML ri_cal gem//EN
CALSCALE:GREGORIAN
VERSION:2.0
BEGIN:VEVENT
CONTACT:
DTEND;VALUE=DATE:20090504
DTSTART;VALUE=DATE:20090502
GEO:47.619903;-122.710255
UID:1974134
DESCRIPTION:
URL:
SUMMARY:NORTHWEST MAY 2-3 DOUBLE REGIONAL CLUB TRIALS DBL TRACK TRIALS
LOCATION:Bremerton National Airport Inactive Runway 16/34 A
BEGIN:VALARM
TRIGGER:-PT15H
DESCRIPTION:NORTHWEST MAY 2-3 DOUBLE REGIONAL CLUB TRIALS DBL TRACK TRIAL
 S
ACTION:AUDIO
END:VALARM
END:VEVENT
END:VCALENDAR
