BEGIN:VCALENDAR
PRODID;X-RICAL-TZSOURCE=TZINFO:-//com.denhaven2/NONSGML ri_cal gem//EN
CALSCALE:GREGORIAN
VERSION:2.0
BEGIN:VEVENT
CONTACT:
DTEND;VALUE=DATE:20120526
DTSTART;VALUE=DATE:20120525
GEO:41.462319;-88.11879
UID:1974116
DESCRIPTION:
URL:www.scca-chicago.com/
SUMMARY:Level 1 Time Trial PDX at Autobahn Country Club
LOCATION:Autobahn Circuit Joliet
BEGIN:VALARM
TRIGGER:-PT15H
DESCRIPTION:Level 1 Time Trial PDX at Autobahn Country Club
ACTION:AUDIO
END:VALARM
END:VEVENT
END:VCALENDAR
