BEGIN:VCALENDAR
PRODID;X-RICAL-TZSOURCE=TZINFO:-//com.denhaven2/NONSGML ri_cal gem//EN
CALSCALE:GREGORIAN
VERSION:2.0
BEGIN:VEVENT
CONTACT:
DTEND;VALUE=DATE:20100328
DTSTART;VALUE=DATE:20100327
GEO:39.2419595;-77.9551625
UID:1974084
DESCRIPTION:
URL:
SUMMARY:Washington DC March 27 Instructor Clinic / Shenandoah Circuit\, S
 ummit Point
LOCATION:Summit Point Raceway
BEGIN:VALARM
TRIGGER:-PT15H
DESCRIPTION:Washington DC March 27 Instructor Clinic / Shenandoah Circuit
 \, Summit Point
ACTION:AUDIO
END:VALARM
END:VEVENT
END:VCALENDAR
