BEGIN:VCALENDAR
PRODID;X-RICAL-TZSOURCE=TZINFO:-//com.denhaven2/NONSGML ri_cal gem//EN
CALSCALE:GREGORIAN
VERSION:2.0
BEGIN:VEVENT
CONTACT:
DTEND;VALUE=DATE:20090622
DTSTART;VALUE=DATE:20090619
UID:1973996
DESCRIPTION:
URL:
SUMMARY:SAN FRANCISCO JUNE 19-21 DBL RESTRICTED REGIONAL
LOCATION:
BEGIN:VALARM
TRIGGER:-PT15H
DESCRIPTION:SAN FRANCISCO JUNE 19-21 DBL RESTRICTED REGIONAL
ACTION:AUDIO
END:VALARM
END:VEVENT
END:VCALENDAR
