BEGIN:VCALENDAR
PRODID;X-RICAL-TZSOURCE=TZINFO:-//com.denhaven2/NONSGML ri_cal gem//EN
CALSCALE:GREGORIAN
VERSION:2.0
BEGIN:VEVENT
CONTACT:
DTEND;VALUE=DATE:20080825
DTSTART;VALUE=DATE:20080822
GEO:39.3591;-75.06077
UID:1973988
DESCRIPTION:
URL:
SUMMARY:NORTHERN NEW JERSEY AUG 22-24 DOUBLE REGIONAL TEST DAY
LOCATION:New Jersey Motorsports Park
BEGIN:VALARM
TRIGGER:-PT15H
DESCRIPTION:NORTHERN NEW JERSEY AUG 22-24 DOUBLE REGIONAL TEST DAY
ACTION:AUDIO
END:VALARM
END:VEVENT
END:VCALENDAR
