BEGIN:VCALENDAR
PRODID;X-RICAL-TZSOURCE=TZINFO:-//com.denhaven2/NONSGML ri_cal gem//EN
CALSCALE:GREGORIAN
VERSION:2.0
BEGIN:VEVENT
CONTACT:
DTEND;VALUE=DATE:20100301
DTSTART;VALUE=DATE:20100227
GEO:34.870058;-118.2629935
UID:1973978
DESCRIPTION:
URL:
SUMMARY:Cal Club/San Diego February 27-28 Willow Springs Raceway
LOCATION:Willow Springs Raceway
BEGIN:VALARM
TRIGGER:-PT15H
DESCRIPTION:Cal Club/San Diego February 27-28 Willow Springs Raceway
ACTION:AUDIO
END:VALARM
END:VEVENT
END:VCALENDAR
