BEGIN:VCALENDAR
PRODID;X-RICAL-TZSOURCE=TZINFO:-//com.denhaven2/NONSGML ri_cal gem//EN
CALSCALE:GREGORIAN
VERSION:2.0
BEGIN:VEVENT
CONTACT:
DTEND;VALUE=DATE:20080225
DTSTART;VALUE=DATE:20080223
GEO:34.870058;-118.2629935
UID:1973952
DESCRIPTION:
URL:
SUMMARY:COLUMBUS FEB 23-24 DRIVER SCHOOL
LOCATION:Willow Springs Raceway
BEGIN:VALARM
TRIGGER:-PT15H
DESCRIPTION:COLUMBUS FEB 23-24 DRIVER SCHOOL
ACTION:AUDIO
END:VALARM
END:VEVENT
END:VCALENDAR
