BEGIN:VCALENDAR
PRODID;X-RICAL-TZSOURCE=TZINFO:-//com.denhaven2/NONSGML ri_cal gem//EN
CALSCALE:GREGORIAN
VERSION:2.0
BEGIN:VEVENT
CONTACT:
DTEND;VALUE=DATE:20130916
DTSTART;VALUE=DATE:20130914
GEO:25.4547985;-80.412115
UID:1973930
DESCRIPTION:
URL:floridaregionscca.com
SUMMARY:Double SARRC/FES/Miata madne$$ 
LOCATION:Homestead-Miami Speedway
BEGIN:VALARM
TRIGGER:-PT15H
DESCRIPTION:Double SARRC/FES/Miata madne$$ 
ACTION:AUDIO
END:VALARM
END:VEVENT
END:VCALENDAR
