BEGIN:VCALENDAR
PRODID;X-RICAL-TZSOURCE=TZINFO:-//com.denhaven2/NONSGML ri_cal gem//EN
CALSCALE:GREGORIAN
VERSION:2.0
BEGIN:VEVENT
CONTACT:
DTEND;VALUE=DATE:20090907
DTSTART;VALUE=DATE:20090904
GEO:38.1607335;-122.452136
UID:1973908
DESCRIPTION:
URL:
SUMMARY:SAN FRANCISCO SEPTEMBER 4-6 DBL REGIONAL
LOCATION:Sonoma Raceway
BEGIN:VALARM
TRIGGER:-PT15H
DESCRIPTION:SAN FRANCISCO SEPTEMBER 4-6 DBL REGIONAL
ACTION:AUDIO
END:VALARM
END:VEVENT
END:VCALENDAR
