BEGIN:VCALENDAR
PRODID;X-RICAL-TZSOURCE=TZINFO:-//com.denhaven2/NONSGML ri_cal gem//EN
CALSCALE:GREGORIAN
VERSION:2.0
BEGIN:VEVENT
CONTACT:
DTEND;VALUE=DATE:20101019
DTSTART;VALUE=DATE:20101016
GEO:27.450897;-81.358373
UID:1973874
DESCRIPTION:
URL:
SUMMARY:Central Florida Oct 16-17 - Sebring Int'l Raceway
LOCATION:Sebring International Raceway
BEGIN:VALARM
TRIGGER:-PT15H
DESCRIPTION:Central Florida Oct 16-17 - Sebring Int'l Raceway
ACTION:AUDIO
END:VALARM
END:VEVENT
END:VCALENDAR
