BEGIN:VCALENDAR
PRODID;X-RICAL-TZSOURCE=TZINFO:-//com.denhaven2/NONSGML ri_cal gem//EN
CALSCALE:GREGORIAN
VERSION:2.0
BEGIN:VEVENT
CONTACT:
DTEND;VALUE=DATE:20130520
DTSTART;VALUE=DATE:20130518
GEO:35.499873;-119.5398505
UID:1973872
DESCRIPTION:
URL:www.calclub.com/
SUMMARY:Formula Vee 50th Birthday Rest. Regional/Time Trials
LOCATION:Buttonwillow Raceway Park
BEGIN:VALARM
TRIGGER:-PT15H
DESCRIPTION:Formula Vee 50th Birthday Rest. Regional/Time Trials
ACTION:AUDIO
END:VALARM
END:VEVENT
END:VCALENDAR
