BEGIN:VCALENDAR
PRODID;X-RICAL-TZSOURCE=TZINFO:-//com.denhaven2/NONSGML ri_cal gem//EN
CALSCALE:GREGORIAN
VERSION:2.0
BEGIN:VEVENT
CONTACT:
DTEND;VALUE=DATE:20120903
DTSTART;VALUE=DATE:20120901
GEO:29.27778;-95.423486
UID:1973866
DESCRIPTION:
URL:
SUMMARY:Labor Day Grand Prix Double National/Regional at MSR Houston
LOCATION:MSR Houston
BEGIN:VALARM
TRIGGER:-PT15H
DESCRIPTION:Labor Day Grand Prix Double National/Regional at MSR Houston
ACTION:AUDIO
END:VALARM
END:VEVENT
END:VCALENDAR
