BEGIN:VCALENDAR
PRODID;X-RICAL-TZSOURCE=TZINFO:-//com.denhaven2/NONSGML ri_cal gem//EN
CALSCALE:GREGORIAN
VERSION:2.0
BEGIN:VEVENT
CONTACT:
DTEND;VALUE=DATE:20080922
DTSTART;VALUE=DATE:20080919
GEO:32.1702065;-81.3301975
UID:1973854
DESCRIPTION:
URL:
SUMMARY:SOUTHEAST DIVISION SEPT 19-21 REGIONAL
LOCATION:Roebling Road
BEGIN:VALARM
TRIGGER:-PT15H
DESCRIPTION:SOUTHEAST DIVISION SEPT 19-21 REGIONAL
ACTION:AUDIO
END:VALARM
END:VEVENT
END:VCALENDAR
