BEGIN:VCALENDAR
PRODID;X-RICAL-TZSOURCE=TZINFO:-//com.denhaven2/NONSGML ri_cal gem//EN
CALSCALE:GREGORIAN
VERSION:2.0
BEGIN:VEVENT
CONTACT:
DTEND;VALUE=DATE:20100510
DTSTART;VALUE=DATE:20100507
GEO:39.3591;-75.06077
UID:1973790
DESCRIPTION:
URL:
SUMMARY:TransAm New Jersey
LOCATION:New Jersey Motorsports Park
BEGIN:VALARM
TRIGGER:-PT15H
DESCRIPTION:TransAm New Jersey
ACTION:AUDIO
END:VALARM
END:VEVENT
END:VCALENDAR
