BEGIN:VCALENDAR
PRODID;X-RICAL-TZSOURCE=TZINFO:-//com.denhaven2/NONSGML ri_cal gem//EN
CALSCALE:GREGORIAN
VERSION:2.0
BEGIN:VEVENT
CONTACT:
DTEND;VALUE=DATE:20090629
DTSTART;VALUE=DATE:20090627
GEO:41.309998;-81.0149
UID:1973762
DESCRIPTION:
URL:
SUMMARY:FINGER LAKES JUNE 27-28 DOUBLE REGIONAL
LOCATION:Nelson Ledges Road Course
BEGIN:VALARM
TRIGGER:-PT15H
DESCRIPTION:FINGER LAKES JUNE 27-28 DOUBLE REGIONAL
ACTION:AUDIO
END:VALARM
END:VEVENT
END:VCALENDAR
