BEGIN:VCALENDAR
PRODID;X-RICAL-TZSOURCE=TZINFO:-//com.denhaven2/NONSGML ri_cal gem//EN
CALSCALE:GREGORIAN
VERSION:2.0
BEGIN:VEVENT
CONTACT:
DTEND;VALUE=DATE:20131007
DTSTART;VALUE=DATE:20131004
GEO:29.7604267;-95.3698028
UID:1973738
DESCRIPTION:
URL:
SUMMARY:World Challenge at Houston on 10/4/13-10/6/13
LOCATION:Houston Raceway Park
BEGIN:VALARM
TRIGGER:-PT15H
DESCRIPTION:World Challenge at Houston on 10/4/13-10/6/13
ACTION:AUDIO
END:VALARM
END:VEVENT
END:VCALENDAR
