BEGIN:VCALENDAR
PRODID;X-RICAL-TZSOURCE=TZINFO:-//com.denhaven2/NONSGML ri_cal gem//EN
CALSCALE:GREGORIAN
VERSION:2.0
BEGIN:VEVENT
CONTACT:
DTEND;VALUE=DATE:20140714
DTSTART;VALUE=DATE:20140712
GEO:47.255451;-123.189164
UID:1973680
DESCRIPTION:
URL:www.nwr-scca.org/
SUMMARY:Double Regional (RQ)
LOCATION:Ridge Motorsports Park
BEGIN:VALARM
TRIGGER:-PT15H
DESCRIPTION:Double Regional (RQ)
ACTION:AUDIO
END:VALARM
END:VEVENT
END:VCALENDAR
