BEGIN:VCALENDAR
PRODID;X-RICAL-TZSOURCE=TZINFO:-//com.denhaven2/NONSGML ri_cal gem//EN
CALSCALE:GREGORIAN
VERSION:2.0
BEGIN:VEVENT
CONTACT:
DTEND;VALUE=DATE:20100503
DTSTART;VALUE=DATE:20100430
UID:1973660
DESCRIPTION:
URL:
SUMMARY:San Francisco April 20-May2 2010 Double Regional Mazda Raceway La
 guna Seca
LOCATION:
BEGIN:VALARM
TRIGGER:-PT15H
DESCRIPTION:San Francisco April 20-May2 2010 Double Regional Mazda Racewa
 y Laguna Seca
ACTION:AUDIO
END:VALARM
END:VEVENT
END:VCALENDAR
