BEGIN:VCALENDAR
PRODID;X-RICAL-TZSOURCE=TZINFO:-//com.denhaven2/NONSGML ri_cal gem//EN
CALSCALE:GREGORIAN
VERSION:2.0
BEGIN:VEVENT
CONTACT:
DTEND;VALUE=DATE:20090525
DTSTART;VALUE=DATE:20090523
GEO:30.582994;-96.28976
UID:1973592
DESCRIPTION:
URL:
SUMMARY:LONE STAR MAY 23-24 NATIONAL REGIONAL
LOCATION:Texas World Speedway
BEGIN:VALARM
TRIGGER:-PT15H
DESCRIPTION:LONE STAR MAY 23-24 NATIONAL REGIONAL
ACTION:AUDIO
END:VALARM
END:VEVENT
END:VCALENDAR
