BEGIN:VCALENDAR
PRODID;X-RICAL-TZSOURCE=TZINFO:-//com.denhaven2/NONSGML ri_cal gem//EN
CALSCALE:GREGORIAN
VERSION:2.0
BEGIN:VEVENT
CONTACT:
DTEND;VALUE=DATE:20100720
DTSTART;VALUE=DATE:20100717
GEO:27.450897;-81.358373
UID:1973586
DESCRIPTION:
URL:
SUMMARY:Central Florida July 17-18 Driver School/Regional - Sebring Int'l
  Raceway
LOCATION:Sebring International Raceway
BEGIN:VALARM
TRIGGER:-PT15H
DESCRIPTION:Central Florida July 17-18 Driver School/Regional - Sebring I
 nt'l Raceway
ACTION:AUDIO
END:VALARM
END:VEVENT
END:VCALENDAR
