BEGIN:VCALENDAR
PRODID;X-RICAL-TZSOURCE=TZINFO:-//com.denhaven2/NONSGML ri_cal gem//EN
CALSCALE:GREGORIAN
VERSION:2.0
BEGIN:VEVENT
CONTACT:
DTEND;VALUE=DATE:20100704
DTSTART;VALUE=DATE:20100701
GEO:32.1702065;-81.3301975
UID:1973542
DESCRIPTION:
URL:
SUMMARY:Southeast Division July 1-3 LouEll Cook Double Regional/Double En
 duro Roebling Road
LOCATION:Roebling Road
BEGIN:VALARM
TRIGGER:-PT15H
DESCRIPTION:Southeast Division July 1-3 LouEll Cook Double Regional/Doubl
 e Enduro Roebling Road
ACTION:AUDIO
END:VALARM
END:VEVENT
END:VCALENDAR
