BEGIN:VCALENDAR
PRODID;X-RICAL-TZSOURCE=TZINFO:-//com.denhaven2/NONSGML ri_cal gem//EN
CALSCALE:GREGORIAN
VERSION:2.0
BEGIN:VEVENT
CONTACT:
DTEND;VALUE=DATE:20080720
DTSTART;VALUE=DATE:20080719
GEO:39.611754;-119.2222065
UID:1973538
DESCRIPTION:
URL:
SUMMARY:RENO JULY 19 TRACK TRIAL CLUB TRIAL PDX
LOCATION:Reno-Fernley Raceway
BEGIN:VALARM
TRIGGER:-PT15H
DESCRIPTION:RENO JULY 19 TRACK TRIAL CLUB TRIAL PDX
ACTION:AUDIO
END:VALARM
END:VEVENT
END:VCALENDAR
