BEGIN:VCALENDAR
PRODID;X-RICAL-TZSOURCE=TZINFO:-//com.denhaven2/NONSGML ri_cal gem//EN
CALSCALE:GREGORIAN
VERSION:2.0
BEGIN:VEVENT
CONTACT:
DTEND;VALUE=DATE:20120102
DTSTART;VALUE=DATE:20120101
UID:1973524
DESCRIPTION:
URL:
SUMMARY:Test Event
LOCATION:
BEGIN:VALARM
TRIGGER:-PT15H
DESCRIPTION:Test Event
ACTION:AUDIO
END:VALARM
END:VEVENT
END:VCALENDAR
