BEGIN:VCALENDAR
PRODID;X-RICAL-TZSOURCE=TZINFO:-//com.denhaven2/NONSGML ri_cal gem//EN
CALSCALE:GREGORIAN
VERSION:2.0
BEGIN:VEVENT
CONTACT:
DTEND;VALUE=DATE:20100802
DTSTART;VALUE=DATE:20100730
GEO:40.6563685;-82.6897955
UID:1973512
DESCRIPTION:
URL:
SUMMARY:Cincinnati July 30 PDX & July 31 - Aug 1 Double Regional Mid Ohio
  Sports Car Course
LOCATION:Mid-Ohio Sports Car Course
BEGIN:VALARM
TRIGGER:-PT15H
DESCRIPTION:Cincinnati July 30 PDX & July 31 - Aug 1 Double Regional Mid 
 Ohio Sports Car Course
ACTION:AUDIO
END:VALARM
END:VEVENT
END:VCALENDAR
