BEGIN:VCALENDAR
PRODID;X-RICAL-TZSOURCE=TZINFO:-//com.denhaven2/NONSGML ri_cal gem//EN
CALSCALE:GREGORIAN
VERSION:2.0
BEGIN:VEVENT
CONTACT:
DTEND;VALUE=DATE:20110530
DTSTART;VALUE=DATE:20110528
GEO:39.068359;-104.517754
UID:1973470
DESCRIPTION:
URL:
SUMMARY:Rock The Peak-Double Rational at Pikes Peak International Raceway
LOCATION:Pikes Peak International Raceway
BEGIN:VALARM
TRIGGER:-PT15H
DESCRIPTION:Rock The Peak-Double Rational at Pikes Peak International Rac
 eway
ACTION:AUDIO
END:VALARM
END:VEVENT
END:VCALENDAR
