BEGIN:VCALENDAR
PRODID;X-RICAL-TZSOURCE=TZINFO:-//com.denhaven2/NONSGML ri_cal gem//EN
CALSCALE:GREGORIAN
VERSION:2.0
BEGIN:VEVENT
CONTACT:
DTEND;VALUE=DATE:20100510
DTSTART;VALUE=DATE:20100508
GEO:36.5735665;-79.0041065
UID:1973382
DESCRIPTION:
URL:
SUMMARY:North Carolina May 8-9 Double Regional VIR
LOCATION:Virginia International Raceway
BEGIN:VALARM
TRIGGER:-PT15H
DESCRIPTION:North Carolina May 8-9 Double Regional VIR
ACTION:AUDIO
END:VALARM
END:VEVENT
END:VCALENDAR
