BEGIN:VCALENDAR
PRODID;X-RICAL-TZSOURCE=TZINFO:-//com.denhaven2/NONSGML ri_cal gem//EN
CALSCALE:GREGORIAN
VERSION:2.0
BEGIN:VEVENT
CONTACT:
DTEND;VALUE=DATE:20110411
DTSTART;VALUE=DATE:20110409
GEO:39.068359;-104.517754
UID:1973336
DESCRIPTION:
URL:
SUMMARY:Dbl Driver School/Dbl Regional - Pikes Peak Int'l Raceway
LOCATION:Pikes Peak International Raceway
BEGIN:VALARM
TRIGGER:-PT15H
DESCRIPTION:Dbl Driver School/Dbl Regional - Pikes Peak Int'l Raceway
ACTION:AUDIO
END:VALARM
END:VEVENT
END:VCALENDAR
