BEGIN:VCALENDAR
PRODID;X-RICAL-TZSOURCE=TZINFO:-//com.denhaven2/NONSGML ri_cal gem//EN
CALSCALE:GREGORIAN
VERSION:2.0
BEGIN:VEVENT
CONTACT:
DTEND;VALUE=DATE:20140127
DTSTART;VALUE=DATE:20140124
GEO:32.297575;-97.883622
UID:1973332
DESCRIPTION:
URL:www.sowdivscca.com/
SUMMARY:Polar Prix - Super School\, Dbl Regional & Club Trial
LOCATION:MotorSport Ranch
BEGIN:VALARM
TRIGGER:-PT15H
DESCRIPTION:Polar Prix - Super School\, Dbl Regional & Club Trial
ACTION:AUDIO
END:VALARM
END:VEVENT
END:VCALENDAR
