BEGIN:VCALENDAR
PRODID;X-RICAL-TZSOURCE=TZINFO:-//com.denhaven2/NONSGML ri_cal gem//EN
CALSCALE:GREGORIAN
VERSION:2.0
BEGIN:VEVENT
CONTACT:
DTEND;VALUE=DATE:20090420
DTSTART;VALUE=DATE:20090418
GEO:39.068359;-104.517754
UID:1973298
DESCRIPTION:
URL:
SUMMARY:CONTINENTAL DIVIDE APRIL 18-19 DOUBLE NATIONAL
LOCATION:Pikes Peak International Raceway
BEGIN:VALARM
TRIGGER:-PT15H
DESCRIPTION:CONTINENTAL DIVIDE APRIL 18-19 DOUBLE NATIONAL
ACTION:AUDIO
END:VALARM
END:VEVENT
END:VCALENDAR
