BEGIN:VCALENDAR
PRODID;X-RICAL-TZSOURCE=TZINFO:-//com.denhaven2/NONSGML ri_cal gem//EN
CALSCALE:GREGORIAN
VERSION:2.0
BEGIN:VEVENT
CONTACT:
DTEND;VALUE=DATE:20090907
DTSTART;VALUE=DATE:20090905
GEO:39.73596;-103.892713
UID:1973286
DESCRIPTION:
URL:
SUMMARY:COLORADO & RIO GRANDE SEPTEMBER 5-6 DOUBLE NATIONAL
LOCATION:High Plains Raceway
BEGIN:VALARM
TRIGGER:-PT15H
DESCRIPTION:COLORADO & RIO GRANDE SEPTEMBER 5-6 DOUBLE NATIONAL
ACTION:AUDIO
END:VALARM
END:VEVENT
END:VCALENDAR
