BEGIN:VCALENDAR
PRODID;X-RICAL-TZSOURCE=TZINFO:-//com.denhaven2/NONSGML ri_cal gem//EN
CALSCALE:GREGORIAN
VERSION:2.0
BEGIN:VEVENT
CONTACT:
DTEND;VALUE=DATE:20100104
DTSTART;VALUE=DATE:20100101
GEO:25.4547985;-80.412115
UID:1973270
DESCRIPTION:
URL:
SUMMARY:FLORIDA JANUARY 1-3\, 2010 DOUBLE NATIONAL MELENEY & SPRINGER MEM
 ORIAL
LOCATION:Homestead-Miami Speedway
BEGIN:VALARM
TRIGGER:-PT15H
DESCRIPTION:FLORIDA JANUARY 1-3\, 2010 DOUBLE NATIONAL MELENEY & SPRINGER
  MEMORIAL
ACTION:AUDIO
END:VALARM
END:VEVENT
END:VCALENDAR
