BEGIN:VCALENDAR
PRODID;X-RICAL-TZSOURCE=TZINFO:-//com.denhaven2/NONSGML ri_cal gem//EN
CALSCALE:GREGORIAN
VERSION:2.0
BEGIN:VEVENT
CONTACT:
DTEND;VALUE=DATE:20131209
DTSTART;VALUE=DATE:20131207
GEO:29.27778;-95.423486
UID:1973268
DESCRIPTION:
URL:www.houscca.com/
SUMMARY:The Abomonable Double Regional & PDX
LOCATION:MSR Houston
BEGIN:VALARM
TRIGGER:-PT15H
DESCRIPTION:The Abomonable Double Regional & PDX
ACTION:AUDIO
END:VALARM
END:VEVENT
END:VCALENDAR
