BEGIN:VCALENDAR
PRODID;X-RICAL-TZSOURCE=TZINFO:-//com.denhaven2/NONSGML ri_cal gem//EN
CALSCALE:GREGORIAN
VERSION:2.0
BEGIN:VEVENT
CONTACT:
DTEND;VALUE=DATE:20121127
DTSTART;VALUE=DATE:20121124
GEO:27.450897;-81.358373
UID:1973182
DESCRIPTION:
URL:
SUMMARY:Regional at Sebring-Long Course
LOCATION:Sebring International Raceway
BEGIN:VALARM
TRIGGER:-PT15H
DESCRIPTION:Regional at Sebring-Long Course
ACTION:AUDIO
END:VALARM
END:VEVENT
END:VCALENDAR
