BEGIN:VCALENDAR
PRODID;X-RICAL-TZSOURCE=TZINFO:-//com.denhaven2/NONSGML ri_cal gem//EN
CALSCALE:GREGORIAN
VERSION:2.0
BEGIN:VEVENT
CONTACT:
DTEND;VALUE=DATE:20100530
DTSTART;VALUE=DATE:20100528
GEO:30.582994;-96.28976
UID:1973176
DESCRIPTION:
URL:
SUMMARY:Lone Star May 28-29 Lone Star Grand Prix National/Regional - Texa
 s World Speedway
LOCATION:Texas World Speedway
BEGIN:VALARM
TRIGGER:-PT15H
DESCRIPTION:Lone Star May 28-29 Lone Star Grand Prix National/Regional - 
 Texas World Speedway
ACTION:AUDIO
END:VALARM
END:VEVENT
END:VCALENDAR
