BEGIN:VCALENDAR
PRODID;X-RICAL-TZSOURCE=TZINFO:-//com.denhaven2/NONSGML ri_cal gem//EN
CALSCALE:GREGORIAN
VERSION:2.0
BEGIN:VEVENT
CONTACT:
DTEND;VALUE=DATE:20081110
DTSTART;VALUE=DATE:20081106
GEO:34.152207;-83.809708
UID:1973120
DESCRIPTION:
URL:
SUMMARY:ATLANTA NOV 6-9 ARRC REST REGIONAL ENDURO PDX
LOCATION:Michelin Raceway Road Atlanta
BEGIN:VALARM
TRIGGER:-PT15H
DESCRIPTION:ATLANTA NOV 6-9 ARRC REST REGIONAL ENDURO PDX
ACTION:AUDIO
END:VALARM
END:VEVENT
END:VCALENDAR
