BEGIN:VCALENDAR
PRODID;X-RICAL-TZSOURCE=TZINFO:-//com.denhaven2/NONSGML ri_cal gem//EN
CALSCALE:GREGORIAN
VERSION:2.0
BEGIN:VEVENT
CONTACT:
DTEND;VALUE=DATE:20090817
DTSTART;VALUE=DATE:20090814
UID:1973104
DESCRIPTION:
URL:
SUMMARY:TRI REGION AUGUST 14-16 DOUBLE NATIONAL 
LOCATION:
BEGIN:VALARM
TRIGGER:-PT15H
DESCRIPTION:TRI REGION AUGUST 14-16 DOUBLE NATIONAL 
ACTION:AUDIO
END:VALARM
END:VEVENT
END:VCALENDAR
