BEGIN:VCALENDAR
PRODID;X-RICAL-TZSOURCE=TZINFO:-//com.denhaven2/NONSGML ri_cal gem//EN
CALSCALE:GREGORIAN
VERSION:2.0
BEGIN:VEVENT
CONTACT:
DTEND;VALUE=DATE:20080505
DTSTART;VALUE=DATE:20080503
GEO:42.48783;-89.11674
UID:1973064
DESCRIPTION:
URL:
SUMMARY:BLACKHAWK VALLEY MAY 3-4 NATIONAL
LOCATION:Blackhawk Farms Raceway
BEGIN:VALARM
TRIGGER:-PT15H
DESCRIPTION:BLACKHAWK VALLEY MAY 3-4 NATIONAL
ACTION:AUDIO
END:VALARM
END:VEVENT
END:VCALENDAR
