BEGIN:VCALENDAR
PRODID;X-RICAL-TZSOURCE=TZINFO:-//com.denhaven2/NONSGML ri_cal gem//EN
CALSCALE:GREGORIAN
VERSION:2.0
BEGIN:VEVENT
CONTACT:
DTEND;VALUE=DATE:20091005
DTSTART;VALUE=DATE:20091003
GEO:45.5957725;-122.6889775
UID:1973038
DESCRIPTION:
URL:
SUMMARY:OREGON OCTOBER 3-4 REGIONAL
LOCATION:Portland International Raceway
BEGIN:VALARM
TRIGGER:-PT15H
DESCRIPTION:OREGON OCTOBER 3-4 REGIONAL
ACTION:AUDIO
END:VALARM
END:VEVENT
END:VCALENDAR
