BEGIN:VCALENDAR
PRODID;X-RICAL-TZSOURCE=TZINFO:-//com.denhaven2/NONSGML ri_cal gem//EN
CALSCALE:GREGORIAN
VERSION:2.0
BEGIN:VEVENT
CONTACT:
DTEND;VALUE=DATE:20130930
DTSTART;VALUE=DATE:20130928
GEO:41.309998;-81.0149
UID:1972966
DESCRIPTION:
URL:mvrscca.org
SUMMARY:John McGill Club Trial/PDX/Double Regional 
LOCATION:Nelson Ledges Road Course
BEGIN:VALARM
TRIGGER:-PT15H
DESCRIPTION:John McGill Club Trial/PDX/Double Regional 
ACTION:AUDIO
END:VALARM
END:VEVENT
END:VCALENDAR
