BEGIN:VCALENDAR
PRODID;X-RICAL-TZSOURCE=TZINFO:-//com.denhaven2/NONSGML ri_cal gem//EN
CALSCALE:GREGORIAN
VERSION:2.0
BEGIN:VEVENT
CONTACT:
DTEND;VALUE=DATE:20130604
DTSTART;VALUE=DATE:20130601
GEO:27.450897;-81.358373
UID:1972938
DESCRIPTION:
URL:www.cfrscca.org
SUMMARY:CFR Regional @ Sebring Int'l Raceway
LOCATION:Sebring International Raceway
BEGIN:VALARM
TRIGGER:-PT15H
DESCRIPTION:CFR Regional @ Sebring Int'l Raceway
ACTION:AUDIO
END:VALARM
END:VEVENT
END:VCALENDAR
