BEGIN:VCALENDAR
PRODID;X-RICAL-TZSOURCE=TZINFO:-//com.denhaven2/NONSGML ri_cal gem//EN
CALSCALE:GREGORIAN
VERSION:2.0
BEGIN:VEVENT
CONTACT:
DTEND;VALUE=DATE:20140615
DTSTART;VALUE=DATE:20140614
GEO:25.4547985;-80.412115
UID:1972934
DESCRIPTION:
URL:www.dmvrscca.org
SUMMARY:Double SARRC/Concurrent Single SECS/Double FES\,TES/ECR Date chg 
 from 6/21/2014
LOCATION:Homestead-Miami Speedway
BEGIN:VALARM
TRIGGER:-PT15H
DESCRIPTION:Double SARRC/Concurrent Single SECS/Double FES\,TES/ECR Date 
 chg from 6/21/2014
ACTION:AUDIO
END:VALARM
END:VEVENT
END:VCALENDAR
