BEGIN:VCALENDAR
PRODID;X-RICAL-TZSOURCE=TZINFO:-//com.denhaven2/NONSGML ri_cal gem//EN
CALSCALE:GREGORIAN
VERSION:2.0
BEGIN:VEVENT
CONTACT:
DTEND;VALUE=DATE:20120903
DTSTART;VALUE=DATE:20120901
GEO:39.73596;-103.892713
UID:1972904
DESCRIPTION:
URL:
SUMMARY:Last Chance Rationals at High Plains Raceway
LOCATION:High Plains Raceway
BEGIN:VALARM
TRIGGER:-PT15H
DESCRIPTION:Last Chance Rationals at High Plains Raceway
ACTION:AUDIO
END:VALARM
END:VEVENT
END:VCALENDAR
