BEGIN:VCALENDAR
PRODID;X-RICAL-TZSOURCE=TZINFO:-//com.denhaven2/NONSGML ri_cal gem//EN
CALSCALE:GREGORIAN
VERSION:2.0
BEGIN:VEVENT
CONTACT:
DTEND;VALUE=DATE:20090330
DTSTART;VALUE=DATE:20090328
GEO:34.48816;-80.59572
UID:1972884
DESCRIPTION:
URL:
SUMMARY:SOUTH CAROLINA MAR 28-29 DBL REGIONAL
LOCATION:Carolina Motorsports Park
BEGIN:VALARM
TRIGGER:-PT15H
DESCRIPTION:SOUTH CAROLINA MAR 28-29 DBL REGIONAL
ACTION:AUDIO
END:VALARM
END:VEVENT
END:VCALENDAR
