BEGIN:VCALENDAR
PRODID;X-RICAL-TZSOURCE=TZINFO:-//com.denhaven2/NONSGML ri_cal gem//EN
CALSCALE:GREGORIAN
VERSION:2.0
BEGIN:VEVENT
CONTACT:
DTEND;VALUE=DATE:20140331
DTSTART;VALUE=DATE:20140329
GEO:26.9097585;-80.282493
UID:1972836
DESCRIPTION:
URL:floridaregionscca.com/
SUMMARY:Double SARRC/TES/ECR/FES/Vintage 
LOCATION:Palm Beach International Raceway
BEGIN:VALARM
TRIGGER:-PT15H
DESCRIPTION:Double SARRC/TES/ECR/FES/Vintage 
ACTION:AUDIO
END:VALARM
END:VEVENT
END:VCALENDAR
