BEGIN:VCALENDAR
PRODID;X-RICAL-TZSOURCE=TZINFO:-//com.denhaven2/NONSGML ri_cal gem//EN
CALSCALE:GREGORIAN
VERSION:2.0
BEGIN:VEVENT
CONTACT:
DTEND;VALUE=DATE:20080818
DTSTART;VALUE=DATE:20080815
GEO:41.462319;-88.11879
UID:1972826
DESCRIPTION:
URL:
SUMMARY:Chicago Aug 15-17 Nat/Rest Reg/Test/PDX
LOCATION:Autobahn Circuit Joliet
BEGIN:VALARM
TRIGGER:-PT15H
DESCRIPTION:Chicago Aug 15-17 Nat/Rest Reg/Test/PDX
ACTION:AUDIO
END:VALARM
END:VEVENT
END:VCALENDAR
