BEGIN:VCALENDAR
PRODID;X-RICAL-TZSOURCE=TZINFO:-//com.denhaven2/NONSGML ri_cal gem//EN
CALSCALE:GREGORIAN
VERSION:2.0
BEGIN:VEVENT
CONTACT:
DTEND;VALUE=DATE:20140722
DTSTART;VALUE=DATE:20140721
GEO:42.48783;-89.11674
UID:1972822
DESCRIPTION:
URL:scca-chicago.com/
SUMMARY:Chicago Milwaukee Regions CT/Chicago PDX2
LOCATION:Blackhawk Farms Raceway
BEGIN:VALARM
TRIGGER:-PT15H
DESCRIPTION:Chicago Milwaukee Regions CT/Chicago PDX2
ACTION:AUDIO
END:VALARM
END:VEVENT
END:VCALENDAR
