BEGIN:VCALENDAR
PRODID;X-RICAL-TZSOURCE=TZINFO:-//com.denhaven2/NONSGML ri_cal gem//EN
CALSCALE:GREGORIAN
VERSION:2.0
BEGIN:VEVENT
CONTACT:
DTEND;VALUE=DATE:20121022
DTSTART;VALUE=DATE:20121020
GEO:39.3591;-75.06077
UID:1972808
DESCRIPTION:
URL:www.njrrs.com/
SUMMARY:Jersey Road Racing Classic at New Jersey Motorsports Park
LOCATION:New Jersey Motorsports Park
BEGIN:VALARM
TRIGGER:-PT15H
DESCRIPTION:Jersey Road Racing Classic at New Jersey Motorsports Park
ACTION:AUDIO
END:VALARM
END:VEVENT
END:VCALENDAR
