BEGIN:VCALENDAR
PRODID;X-RICAL-TZSOURCE=TZINFO:-//com.denhaven2/NONSGML ri_cal gem//EN
CALSCALE:GREGORIAN
VERSION:2.0
BEGIN:VEVENT
CONTACT:
DTEND;VALUE=DATE:20120611
DTSTART;VALUE=DATE:20120609
GEO:40.0;-75.0
UID:1972790
DESCRIPTION:
URL:www.nepa-scca.com/
SUMMARY:2012 Spring Weatherly HillClimb at Spring Weatherly\, PA
LOCATION:Weatherly
BEGIN:VALARM
TRIGGER:-PT15H
DESCRIPTION:2012 Spring Weatherly HillClimb at Spring Weatherly\, PA
ACTION:AUDIO
END:VALARM
END:VEVENT
END:VCALENDAR
