BEGIN:VCALENDAR
PRODID;X-RICAL-TZSOURCE=TZINFO:-//com.denhaven2/NONSGML ri_cal gem//EN
CALSCALE:GREGORIAN
VERSION:2.0
BEGIN:VEVENT
CONTACT:
DTEND;VALUE=DATE:20090810
DTSTART;VALUE=DATE:20090808
GEO:39.2419595;-77.9551625
UID:1972772
DESCRIPTION:
URL:
SUMMARY:WASHINGTON DC AUGUST 8-9 REGIONAL MARRS 7
LOCATION:Summit Point Raceway
BEGIN:VALARM
TRIGGER:-PT15H
DESCRIPTION:WASHINGTON DC AUGUST 8-9 REGIONAL MARRS 7
ACTION:AUDIO
END:VALARM
END:VEVENT
END:VCALENDAR
