BEGIN:VCALENDAR
PRODID;X-RICAL-TZSOURCE=TZINFO:-//com.denhaven2/NONSGML ri_cal gem//EN
CALSCALE:GREGORIAN
VERSION:2.0
BEGIN:VEVENT
CONTACT:
DTEND;VALUE=DATE:20100125
DTSTART;VALUE=DATE:20100122
GEO:34.084686;-117.488853
UID:1972694
DESCRIPTION:
URL:
SUMMARY:Cal Club January 22-24 Auto Club Speedway
LOCATION:Auto Club Speedway
BEGIN:VALARM
TRIGGER:-PT15H
DESCRIPTION:Cal Club January 22-24 Auto Club Speedway
ACTION:AUDIO
END:VALARM
END:VEVENT
END:VCALENDAR
